BEGIN:VCALENDAR
VERSION:2.0
PRODID:icalendar-ruby
CALSCALE:GREGORIAN
METHOD:PUBLISH
BEGIN:VEVENT
DTSTAMP:20260420T081258Z
UID:8-295417@southgrove.tithelysetup2.com
DTSTART:20260709T130000Z
DTEND:20260709T140000Z
CLASS:PUBLIC
CREATED:20260420T010049
DESCRIPTION:
LAST-MODIFIED:20260420T010049
LOCATION:Ralphs' Home
SUMMARY:Men's Bible Study
URL;VALUE=URI:https://southgrove.tithelysetup2.com/events/mens-bible-study/
 2026-07-09
END:VEVENT
END:VCALENDAR
