BEGIN:VCALENDAR
VERSION:2.0
PRODID:icalendar-ruby
CALSCALE:GREGORIAN
METHOD:PUBLISH
BEGIN:VEVENT
DTSTAMP:20260420T163438Z
UID:8-295718@southgrove.tithelysetup2.com
DTSTART:20260813T130000Z
DTEND:20260813T140000Z
CLASS:PUBLIC
CREATED:20260420T080728
DESCRIPTION:
LAST-MODIFIED:20260420T080728
LOCATION:Ralphs' Home
SUMMARY:Men's Bible Study
URL;VALUE=URI:https://southgrove.tithelysetup2.com/events/mens-bible-study/
 2026-08-13
END:VEVENT
END:VCALENDAR
