BEGIN:VCALENDAR
VERSION:2.0
PRODID:icalendar-ruby
CALSCALE:GREGORIAN
METHOD:PUBLISH
BEGIN:VEVENT
DTSTAMP:20260420T181223Z
UID:8-295867@southgrove.tithelysetup2.com
DTSTART:20260820T130000Z
DTEND:20260820T140000Z
CLASS:PUBLIC
CREATED:20260420T104138
DESCRIPTION:
LAST-MODIFIED:20260420T104138
LOCATION:Ralphs' Home
SUMMARY:Men's Bible Study
URL;VALUE=URI:https://southgrove.tithelysetup2.com/events/mens-bible-study/
 2026-08-20
END:VEVENT
END:VCALENDAR
