BEGIN:VCALENDAR
VERSION:2.0
PRODID:icalendar-ruby
CALSCALE:GREGORIAN
METHOD:PUBLISH
BEGIN:VEVENT
DTSTAMP:20260420T195931Z
UID:8-295868@southgrove.tithelysetup2.com
DTSTART:20260827T130000Z
DTEND:20260827T140000Z
CLASS:PUBLIC
CREATED:20260420T104138
DESCRIPTION:
LAST-MODIFIED:20260420T104138
LOCATION:Ralphs' Home
SUMMARY:Men's Bible Study
URL;VALUE=URI:https://southgrove.tithelysetup2.com/events/mens-bible-study/
 2026-08-27
END:VEVENT
END:VCALENDAR
