BEGIN:VCALENDAR
VERSION:2.0
PRODID:icalendar-ruby
CALSCALE:GREGORIAN
METHOD:PUBLISH
BEGIN:VEVENT
DTSTAMP:20260420T213406Z
UID:8-296017@southgrove.tithelysetup2.com
DTSTART:20260903T130000Z
DTEND:20260903T140000Z
CLASS:PUBLIC
CREATED:20260420T131705
DESCRIPTION:
LAST-MODIFIED:20260420T131705
LOCATION:Ralphs' Home
SUMMARY:Men's Bible Study
URL;VALUE=URI:https://southgrove.tithelysetup2.com/events/mens-bible-study/
 2026-09-03
END:VEVENT
END:VCALENDAR
