BEGIN:VCALENDAR
VERSION:2.0
PRODID:icalendar-ruby
CALSCALE:GREGORIAN
METHOD:PUBLISH
BEGIN:VEVENT
DTSTAMP:20260421T005526Z
UID:8-296167@southgrove.tithelysetup2.com
DTSTART:20260917T130000Z
DTEND:20260917T140000Z
CLASS:PUBLIC
CREATED:20260420T155229
DESCRIPTION:
LAST-MODIFIED:20260420T155229
LOCATION:Ralphs' Home
SUMMARY:Men's Bible Study
URL;VALUE=URI:https://southgrove.tithelysetup2.com/events/mens-bible-study/
 2026-09-17
END:VEVENT
END:VCALENDAR
