BEGIN:VCALENDAR
VERSION:2.0
PRODID:icalendar-ruby
CALSCALE:GREGORIAN
METHOD:PUBLISH
BEGIN:VEVENT
DTSTAMP:20260421T043739Z
UID:8-296317@southgrove.tithelysetup2.com
DTSTART:20261001T130000Z
DTEND:20261001T140000Z
CLASS:PUBLIC
CREATED:20260420T182643
DESCRIPTION:
LAST-MODIFIED:20260420T182643
LOCATION:Ralphs' Home
SUMMARY:Men's Bible Study
URL;VALUE=URI:https://southgrove.tithelysetup2.com/events/mens-bible-study/
 2026-10-01
END:VEVENT
END:VCALENDAR
