BEGIN:VCALENDAR
VERSION:2.0
PRODID:icalendar-ruby
CALSCALE:GREGORIAN
METHOD:PUBLISH
BEGIN:VEVENT
DTSTAMP:20260420T112515Z
UID:9-295468@southgrove.tithelysetup2.com
DTSTART:20260719T160000Z
DTEND:20260719T164500Z
CLASS:PUBLIC
CREATED:20260420T010049
DESCRIPTION:Praying for the service\, the church and special needs.
LAST-MODIFIED:20260420T010049
LOCATION:
SUMMARY:Sunday Prayer
URL;VALUE=URI:https://southgrove.tithelysetup2.com/events/sunday-prayer/202
 6-07-19
END:VEVENT
END:VCALENDAR
