BEGIN:VCALENDAR
VERSION:2.0
PRODID:icalendar-ruby
CALSCALE:GREGORIAN
METHOD:PUBLISH
BEGIN:VEVENT
DTSTAMP:20260420T162248Z
UID:9-295767@southgrove.tithelysetup2.com
DTSTART:20260809T160000Z
DTEND:20260809T164500Z
CLASS:PUBLIC
CREATED:20260420T080728
DESCRIPTION:Praying for the service\, the church and special needs.
LAST-MODIFIED:20260420T080728
LOCATION:
SUMMARY:Sunday Prayer
URL;VALUE=URI:https://southgrove.tithelysetup2.com/events/sunday-prayer/202
 6-08-09
END:VEVENT
END:VCALENDAR
