BEGIN:VCALENDAR
VERSION:2.0
PRODID:icalendar-ruby
CALSCALE:GREGORIAN
METHOD:PUBLISH
BEGIN:VEVENT
DTSTAMP:20260420T232054Z
UID:9-296215@southgrove.tithelysetup2.com
DTSTART:20260906T160000Z
DTEND:20260906T164500Z
CLASS:PUBLIC
CREATED:20260420T155229
DESCRIPTION:Praying for the service\, the church and special needs.
LAST-MODIFIED:20260420T155229
LOCATION:
SUMMARY:Sunday Prayer
URL;VALUE=URI:https://southgrove.tithelysetup2.com/events/sunday-prayer/202
 6-09-06
END:VEVENT
END:VCALENDAR
