BEGIN:VCALENDAR
VERSION:2.0
PRODID:icalendar-ruby
CALSCALE:GREGORIAN
METHOD:PUBLISH
BEGIN:VEVENT
DTSTAMP:20260423T083838Z
UID:9-298140@southgrove.tithelysetup2.com
DTSTART:20260913T160000Z
DTEND:20260913T164500Z
CLASS:PUBLIC
CREATED:20260422T202311
DESCRIPTION:Praying for the service\, the church and special needs.
LAST-MODIFIED:20260422T202311
LOCATION:
SUMMARY:Sunday Prayer
URL;VALUE=URI:https://southgrove.tithelysetup2.com/events/sunday-prayer/202
 6-09-13
END:VEVENT
END:VCALENDAR
