BEGIN:VCALENDAR
VERSION:2.0
PRODID:icalendar-ruby
CALSCALE:GREGORIAN
METHOD:PUBLISH
BEGIN:VEVENT
DTSTAMP:20260423T184005Z
UID:9-298443@southgrove.tithelysetup2.com
DTSTART:20261025T160000Z
DTEND:20261025T164500Z
CLASS:PUBLIC
CREATED:20260423T084546
DESCRIPTION:Praying for the service\, the church and special needs.
LAST-MODIFIED:20260423T084546
LOCATION:
SUMMARY:Sunday Prayer
URL;VALUE=URI:https://southgrove.tithelysetup2.com/events/sunday-prayer/202
 6-10-25
END:VEVENT
END:VCALENDAR
