BEGIN:VCALENDAR
VERSION:2.0
PRODID:icalendar-ruby
CALSCALE:GREGORIAN
METHOD:PUBLISH
BEGIN:VEVENT
DTSTAMP:20260423T200259Z
UID:9-298593@southgrove.tithelysetup2.com
DTSTART:20261101T170000Z
DTEND:20261101T174500Z
CLASS:PUBLIC
CREATED:20260423T114256
DESCRIPTION:Praying for the service\, the church and special needs.
LAST-MODIFIED:20260423T114256
LOCATION:
SUMMARY:Sunday Prayer
URL;VALUE=URI:https://southgrove.tithelysetup2.com/events/sunday-prayer/202
 6-11-01
END:VEVENT
END:VCALENDAR
