BEGIN:VCALENDAR
VERSION:2.0
PRODID:icalendar-ruby
CALSCALE:GREGORIAN
METHOD:PUBLISH
BEGIN:VEVENT
DTSTAMP:20260420T112547Z
UID:7-295370@southgrove.tithelysetup2.com
DTSTART:20260719T170000Z
DTEND:20260719T183000Z
CLASS:PUBLIC
CREATED:20260420T010049
DESCRIPTION:Sunday Worship
LAST-MODIFIED:20260420T010049
LOCATION:
SUMMARY:Sunday Worship
URL;VALUE=URI:https://southgrove.tithelysetup2.com/events/sunday-worship/20
 26-07-19
END:VEVENT
END:VCALENDAR
