BEGIN:VCALENDAR
VERSION:2.0
PRODID:icalendar-ruby
CALSCALE:GREGORIAN
METHOD:PUBLISH
BEGIN:VEVENT
DTSTAMP:20260420T161824Z
UID:7-295669@southgrove.tithelysetup2.com
DTSTART:20260809T170000Z
DTEND:20260809T183000Z
CLASS:PUBLIC
CREATED:20260420T080728
DESCRIPTION:Sunday Worship
LAST-MODIFIED:20260420T080728
LOCATION:
SUMMARY:Sunday Worship
URL;VALUE=URI:https://southgrove.tithelysetup2.com/events/sunday-worship/20
 26-08-09
END:VEVENT
END:VCALENDAR
