BEGIN:VCALENDAR
VERSION:2.0
PRODID:icalendar-ruby
CALSCALE:GREGORIAN
METHOD:PUBLISH
BEGIN:VEVENT
DTSTAMP:20260421T121731Z
UID:7-296273@southgrove.tithelysetup2.com
DTSTART:20261101T180000Z
DTEND:20261101T193000Z
CLASS:PUBLIC
CREATED:20260420T182642
DESCRIPTION:Sunday Worship
LAST-MODIFIED:20260420T182642
LOCATION:
SUMMARY:Sunday Worship
URL;VALUE=URI:https://southgrove.tithelysetup2.com/events/sunday-worship/20
 26-11-01
END:VEVENT
END:VCALENDAR
